BEGIN:VCALENDAR
VERSION:2.0
PRODID:-//eventon.com NONSGML v1.0//EN
BEGIN:VEVENT
UID:69e6a6dde7ea8
DTSTAMP:20260420T222117
DTSTART:20210412T090000Z
DTEND:20210415T170000Z
LOCATION:
SUMMARY:Semana paralímpica
DESCRIPTION: Vilarinho do Bairro
END:VEVENT
END:VCALENDAR