BEGIN:VCALENDAR
VERSION:2.0
PRODID:-//eventon.com NONSGML v1.0//EN
BEGIN:VEVENT
UID:69e89be3685fc
DTSTAMP:20260422T095859
DTSTART:20211018T083000Z
DTEND:20211019T180000Z
LOCATION:
SUMMARY:ELEIÇÃO DOS ÓRGÃOS DA ASSOCIAÇÃO DE ESTUDANTES
DESCRIPTION: Campanha Eleitoral
END:VEVENT
END:VCALENDAR