BEGIN:VCALENDAR
VERSION:2.0
PRODID:-//eventon.com NONSGML v1.0//EN
BEGIN:VEVENT
UID:69e8a02f13399
DTSTAMP:20260422T101719
DTSTART:20220314T000000Z
DTEND:20220314T000000Z
LOCATION:
SUMMARY:Dia Internacional da Matemática
DESCRIPTION: Dia Internacional da Matemática
END:VEVENT
END:VCALENDAR