BEGIN:VCALENDAR
VERSION:2.0
PRODID:-//eventon.com NONSGML v1.0//EN
BEGIN:VEVENT
UID:69e89f3724766
DTSTAMP:20260422T101311
DTSTART:20250508T000000Z
DTEND:20250508T000000Z
LOCATION:
SUMMARY:XXII InterEscolas diocesano de EMRC
DESCRIPTION: Alunos de EMRC de 2º Ciclo de Vilarinho do Bairro
END:VEVENT
END:VCALENDAR